BEGIN:VCALENDAR
VERSION:2.0
PRODID:-//ChamberMaster//Event Calendar 2.0//EN
METHOD:PUBLISH
X-PUBLISHED-TTL:P3D
REFRESH-INTERVAL:P3D
CALSCALE:GREGORIAN
BEGIN:VEVENT
DTSTART:20150828T124500Z
DTEND:20150829T020000Z
X-MICROSOFT-CDO-ALLDAYEVENT:FALSE
SUMMARY:2015 Congressional Breakfast featuring Senator Lankford
DESCRIPTION:
X-ALT-DESC;FMTTYPE=text/html:
LOCATION:SpiritBank Event Center North Ballroom 10441 South Regal Boulevard Tulsa\, OK 74133
UID:e.1611.1496
SEQUENCE:3
DTSTAMP:20260420T010344Z
URL:https://portal.bixbychamber.com/events/details/2015-congressional-breakfast-featuring-senator-lankford-08-28-2015-1496
END:VEVENT

END:VCALENDAR
