BEGIN:VCALENDAR
VERSION:2.0
PRODID:-//ChamberMaster//Event Calendar 2.0//EN
METHOD:PUBLISH
X-PUBLISHED-TTL:P3D
REFRESH-INTERVAL:P3D
CALSCALE:GREGORIAN
BEGIN:VEVENT
DTSTART:20150806T000000Z
DTEND:20150806T000000Z
X-MICROSOFT-CDO-ALLDAYEVENT:FALSE
SUMMARY:2015 Church On The Move Revival Event
DESCRIPTION:Join Church on the Move South at the Glenpool Conference Center for Revival!\n\n\n\nFeaturing guest speakers:\n\nSteven Furtick of Elevation Church in Charlotte\, NC\n\nJud Wilhite of Central Christian Church in Las Vegas\, NV\n\nDenny Duron of Community Church in Shreveport\, LA\n\nPastors Willie and Whitney George of Church on the Move in Tulsa. \n\n\n\n Service times are as follows:\n\nAugust 5th-7th at 7:00 PM\n\nAugust 8th at 6:00 PM\n\nAugust 9th at 9:30 & 11:15
X-ALT-DESC;FMTTYPE=text/html:<br />\n<span style="font-size:12px\;"><span style="font-family:arial\;">Join <strong>Church on the Move South&nbsp\;</strong>at the Glenpool Conference Center for Revival!<br />\n<br />\nFeaturing guest speakers:<br />\n<strong>Steven Furtick</strong> of Elevation Church in Charlotte\, NC<br />\n<strong>Jud Wilhite</strong> of Central Christian Church in Las Vegas\, NV<br />\n<strong>Denny Duron</strong> of Community Church in Shreveport\,&nbsp\;LA<br />\n<strong>Pastors Willie and&nbsp\;Whitney George</strong> of Church on the Move in Tulsa. </span></span><br />\n<br />\n<span style="font-size: 12px\; line-height: 19.2000007629395px\; font-family: arial\;">&#8203\;Service times are as follows:<br />\n<strong>August&nbsp\;</strong></span><strong style="font-size: 12px\; line-height: 19.2000007629395px\;">5th-7th</strong><span style="font-size: 12px\; line-height: 19.2000007629395px\; font-family: arial\;">&nbsp\;at 7:00 PM<br />\n<strong>August 8th</strong>&nbsp\;at 6:00 PM<br />\n<strong>August 9th</strong>&nbsp\;at 9:30 &amp\; 11:15&nbsp\;</span>
LOCATION:Glenpool Conference Center 12205 S Yukon Ave\, Glenpool\, OK 74033 (918) 322-5409
UID:e.1611.1645
SEQUENCE:3
DTSTAMP:20260420T010600Z
URL:https://portal.bixbychamber.com/events/details/2015-church-on-the-move-revival-event-08-05-2015-1645
END:VEVENT

END:VCALENDAR
