BEGIN:VCALENDAR
VERSION:2.0
PRODID:-//ChamberMaster//Event Calendar 2.0//EN
METHOD:PUBLISH
X-PUBLISHED-TTL:P3D
REFRESH-INTERVAL:P3D
CALSCALE:GREGORIAN
BEGIN:VEVENT
DTSTART:20150917T213000Z
DTEND:20150917T220000Z
X-MICROSOFT-CDO-ALLDAYEVENT:FALSE
SUMMARY:2015 Cancelled: Ribbon Cutting- PeopleLink Staffing Solutions
DESCRIPTION:Please note that this event has been postponed to a further date.\n\n\n\nPlease join us for a Ribbon Cutting welcoming Peoplelink Staffing Solutions to the Bixby Metro Chamber of Commerce.
X-ALT-DESC;FMTTYPE=text/html:Please note that this event has been postponed to a further date.<br />\n<br />\nPlease join us for a Ribbon Cutting welcoming&nbsp\;Peoplelink Staffing Solutions to the Bixby Metro Chamber of Commerce.
LOCATION:Peoplelink Staffing Solutions Jarod Lamb - Director 5401 South Sheridan Avenue Suite 101 Tulsa\, OK 74145
UID:e.1611.1627
SEQUENCE:3
DTSTAMP:20260419T234724Z
URL:https://portal.bixbychamber.com/events/details/2015-cancelled-ribbon-cutting-peoplelink-staffing-solutions-09-17-2015-1627
END:VEVENT

END:VCALENDAR
