BEGIN:VCALENDAR
VERSION:2.0
PRODID:-//ChamberMaster//Event Calendar 2.0//EN
METHOD:PUBLISH
X-PUBLISHED-TTL:P3D
REFRESH-INTERVAL:P3D
CALSCALE:GREGORIAN
BEGIN:VEVENT
DTSTART:20151029T213000Z
DTEND:20151029T220000Z
X-MICROSOFT-CDO-ALLDAYEVENT:FALSE
SUMMARY:2015 Canceled: Ribbon Cutting and Re-Grand Opening: Home Creations
DESCRIPTION:This event has been canceled. \n\n\n\nPlease join us for a Ribbon Cutting and Re-Grand Opening welcoming Home Creations to the Bixby Metro Chamber of Commerce family.
X-ALT-DESC;FMTTYPE=text/html:<strong>This event has been canceled.&nbsp\;</strong><br />\n<br />\nPlease join us for a Ribbon Cutting and Re-Grand Opening welcoming Home Creations to the Bixby Metro Chamber of Commerce family.
LOCATION:Home Creations 6473 East 148th Street South Bixby\, OK 74008
UID:e.1611.1677
SEQUENCE:3
DTSTAMP:20260419T224611Z
URL:https://portal.bixbychamber.com/events/details/2015-canceled-ribbon-cutting-and-re-grand-opening-home-creations-10-29-2015-1677
END:VEVENT

END:VCALENDAR
