BEGIN:VCALENDAR
VERSION:2.0
PRODID:-//ChamberMaster//Event Calendar 2.0//EN
METHOD:PUBLISH
X-PUBLISHED-TTL:P3D
REFRESH-INTERVAL:P3D
CALSCALE:GREGORIAN
BEGIN:VEVENT
DTSTART:20151120T170000Z
DTEND:20151120T190000Z
X-MICROSOFT-CDO-ALLDAYEVENT:FALSE
SUMMARY:2015 Buy BIxby- Midway Event
DESCRIPTION:Join the City of Bixby to win cash prizes\, giveaways\, Buy Bixby T-shirts and more!
X-ALT-DESC;FMTTYPE=text/html:<div class="_6a _6b" style="display: inline-block\; vertical-align: middle\; color: rgb(20\, 24\, 35)\; font-family: helvetica\, arial\, sans-serif\; font-size: 12px\; line-height: 14.6182px\; height: 48px\;">Join the City of Bixby to win cash prizes\, giveaways\, Buy Bixby T-shirts and more!</div>\n
LOCATION:BTC Broadband 11134 South Memorial Drive Bixby\, OK 74008
UID:e.1611.1694
SEQUENCE:3
DTSTAMP:20260419T210816Z
URL:https://portal.bixbychamber.com/events/details/2015-buy-bixby-midway-event-11-20-2015-1694
END:VEVENT

END:VCALENDAR
