BEGIN:VCALENDAR
VERSION:2.0
PRODID:-//ChamberMaster//Event Calendar 2.0//EN
METHOD:PUBLISH
X-PUBLISHED-TTL:P3D
REFRESH-INTERVAL:P3D
CALSCALE:GREGORIAN
BEGIN:VEVENT
DTSTART:20151031T160000Z
DTEND:20151031T180000Z
X-MICROSOFT-CDO-ALLDAYEVENT:FALSE
SUMMARY:2015 Buy Bixby Kick-Off
DESCRIPTION:Launch party with cash and prize giveaways\, KXOJ Radio remote at Doc's Country Mart in Bixby!
X-ALT-DESC;FMTTYPE=text/html:<span style="color: rgb(20\, 24\, 35)\; font-family: helvetica\, arial\, sans-serif\; font-size: 14px\; line-height: 17.0545px\;">Launch party with cash and prize giveaways\, KXOJ Radio remote at Doc&#39\;s Country Mart in Bixby!</span>
LOCATION:15028 South Memorial Drive Bixby\, OK 74008
UID:e.1611.1688
SEQUENCE:3
DTSTAMP:20260419T235839Z
URL:https://portal.bixbychamber.com/events/details/2015-buy-bixby-kick-off-10-31-2015-1688
END:VEVENT

END:VCALENDAR
