BEGIN:VCALENDAR
VERSION:2.0
PRODID:-//ChamberMaster//Event Calendar 2.0//EN
METHOD:PUBLISH
X-PUBLISHED-TTL:P3D
REFRESH-INTERVAL:P3D
CALSCALE:GREGORIAN
BEGIN:VEVENT
DTSTART:20151106T173000Z
DTEND:20151106T190000Z
X-MICROSOFT-CDO-ALLDAYEVENT:FALSE
SUMMARY:2015 BTC Chili Cook Off
DESCRIPTION:Join BTC at their 15th Annual "Bettering the Community" Chili Cook Off to raise funds for the Bixby Outreach Center.\n\n\n\nLocal chili enthusiasts will judge all of the chili entries. Great prizes will be awarded to the winners! Plus\, we'll have a People's Choice Award too\, so anyone who eats\, gets to vote. All proceeds benefit the Bixby Outreach Center! So even if your company does not enter chili in the contest\, we still invite and encourage ALL your employees to join us for lunch that day!
X-ALT-DESC;FMTTYPE=text/html:Join BTC at their 15th Annual &quot\;Bettering the Community&quot\; Chili Cook Off to raise funds for the Bixby Outreach Center.<br />\n<br />\nLocal chili enthusiasts will judge all of the chili entries. Great prizes will be awarded to the winners!&nbsp\;Plus\, we&rsquo\;ll have a People&rsquo\;s Choice Award too\, so anyone who eats\, gets to vote.&nbsp\;All proceeds benefit the Bixby Outreach Center! So even if your company does not enter chili in the contest\,&nbsp\;we still invite and encourage ALL your employees to join us for lunch that day!
LOCATION:BTC Broadband Parking lot 111th and Memorial
UID:e.1611.1681
SEQUENCE:3
DTSTAMP:20260419T222519Z
URL:https://portal.bixbychamber.com/events/details/2015-btc-chili-cook-off-11-06-2015-1681
END:VEVENT

END:VCALENDAR
