BEGIN:VCALENDAR
VERSION:2.0
PRODID:-//ChamberMaster//Event Calendar 2.0//EN
METHOD:PUBLISH
X-PUBLISHED-TTL:P3D
REFRESH-INTERVAL:P3D
CALSCALE:GREGORIAN
BEGIN:VEVENT
DTSTART:20150923T000000Z
DTEND:20150923T010000Z
X-MICROSOFT-CDO-ALLDAYEVENT:FALSE
SUMMARY:2015 Bixby Town Hall
DESCRIPTION:
X-ALT-DESC;FMTTYPE=text/html:
LOCATION:Bixby Community Center 211 North Cabaniss Bixby\, OK 74008
UID:e.1611.1659
SEQUENCE:3
DTSTAMP:20260419T234225Z
URL:https://portal.bixbychamber.com/events/details/2015-bixby-town-hall-09-22-2015-1659
END:VEVENT

END:VCALENDAR
