BEGIN:VCALENDAR
VERSION:2.0
PRODID:-//ChamberMaster//Event Calendar 2.0//EN
METHOD:PUBLISH
X-PUBLISHED-TTL:P3D
REFRESH-INTERVAL:P3D
CALSCALE:GREGORIAN
BEGIN:VEVENT
DTSTART:20150326T220000Z
DTEND:20150327T000000Z
X-MICROSOFT-CDO-ALLDAYEVENT:FALSE
SUMMARY:2015 Bixby Talks: Retail Strategies
DESCRIPTION:Presentation\, Networking\, Heavy Hors D'oeuvres by Michael V's
X-ALT-DESC;FMTTYPE=text/html:Presentation\, Networking\, Heavy Hors D&#39\;oeuvres by Michael V&#39\;s
LOCATION:SpiritBank Event Center 10441 South Regal Boulevard Tulsa\, OK 74133
UID:e.1611.1575
SEQUENCE:3
DTSTAMP:20260422T084135Z
URL:https://portal.bixbychamber.com/events/details/2015-bixby-talks-retail-strategies-03-26-2015-1575
END:VEVENT

END:VCALENDAR
