BEGIN:VCALENDAR
VERSION:2.0
PRODID:-//ChamberMaster//Event Calendar 2.0//EN
METHOD:PUBLISH
X-PUBLISHED-TTL:P3D
REFRESH-INTERVAL:P3D
CALSCALE:GREGORIAN
BEGIN:VEVENT
DTSTART:20150912T140000Z
DTEND:20150912T160000Z
X-MICROSOFT-CDO-ALLDAYEVENT:FALSE
SUMMARY:2015 Bixby Swim Club Registration with Skills Assessment
DESCRIPTION:Summer doesn't have to end. Join the Bixby Swim Club and swim year round! Please join us with a swim suit and goggles for registration and a skills assessment at the W.E. McKinney Pool at Bixby High School (south of the football stadium\, second entrance to the high school). All swimmers from elementary to high school are welcome!
X-ALT-DESC;FMTTYPE=text/html:Summer doesn&#39\;t have to end. Join the Bixby Swim Club and swim year round! Please join us with a swim suit and goggles for registration and a skills assessment at the W.E. McKinney Pool at Bixby High School (south of the football stadium\, second entrance to the high school). All swimmers from elementary to high school are welcome!
LOCATION:601 South Riverview Drive Bixby\, OK 74008
UID:e.1611.1663
SEQUENCE:3
DTSTAMP:20260419T234723Z
URL:https://portal.bixbychamber.com/events/details/2015-bixby-swim-club-registration-with-skills-assessment-09-12-2015-1663
END:VEVENT

END:VCALENDAR
