BEGIN:VCALENDAR
VERSION:2.0
PRODID:-//ChamberMaster//Event Calendar 2.0//EN
METHOD:PUBLISH
X-PUBLISHED-TTL:P3D
REFRESH-INTERVAL:P3D
CALSCALE:GREGORIAN
BEGIN:VEVENT
DTSTART:20150630T230000Z
DTEND:20150701T010000Z
X-MICROSOFT-CDO-ALLDAYEVENT:FALSE
SUMMARY:2015 Bixby River Town Hall
DESCRIPTION:
X-ALT-DESC;FMTTYPE=text/html:
LOCATION:SpiritBank Event Center North Ballroom 10441 South Regal Boulevard Tulsa\, OK 74133
UID:e.1611.1635
SEQUENCE:3
DTSTAMP:20260420T034610Z
URL:https://portal.bixbychamber.com/events/details/2015-bixby-river-town-hall-06-30-2015-1635
END:VEVENT

END:VCALENDAR
