BEGIN:VCALENDAR
VERSION:2.0
PRODID:-//ChamberMaster//Event Calendar 2.0//EN
METHOD:PUBLISH
X-PUBLISHED-TTL:P3D
REFRESH-INTERVAL:P3D
CALSCALE:GREGORIAN
BEGIN:VEVENT
DTSTART:20151027T230000Z
DTEND:20151028T000000Z
X-MICROSOFT-CDO-ALLDAYEVENT:FALSE
SUMMARY:2015 Bixby Historical Society Annual Business Meeting
DESCRIPTION:The annual business meeting for the Bixby Historical Society has been scheduled for Tuesday\, October 27\, 2015. The meeting will be held at the Bixby Community Center and is scheduled to start at 6:00 p.m. Please mark your calendars and plan to attend. Items of discussion will include the election of a new trustee\, progress on the plans for a new museum and plans for a very special event to take place in 2016.
X-ALT-DESC;FMTTYPE=text/html:<span style="font-size:13.5pt\;">The annual business meeting for the Bixby Historical Society has been scheduled for Tuesday\, October 27\, 2015. The meeting will be held at the Bixby Community Center and is scheduled to start at 6:00 p.m. Please mark your calendars and plan to attend. Items of discussion will include the election of a new trustee\, progress on the plans for a new museum and plans for a<strong> very</strong> <strong>special event</strong> to take place in 2016.&nbsp\;</span><br />\n&nbsp\;
LOCATION:Bixby Community Center 211 North Cabaniss Avenue Bixby\, OK 74008
UID:e.1611.1680
SEQUENCE:3
DTSTAMP:20260419T223938Z
URL:https://portal.bixbychamber.com/events/details/2015-bixby-historical-society-annual-business-meeting-10-27-2015-1680
END:VEVENT

END:VCALENDAR
