BEGIN:VCALENDAR
VERSION:2.0
PRODID:-//ChamberMaster//Event Calendar 2.0//EN
METHOD:PUBLISH
X-PUBLISHED-TTL:P3D
REFRESH-INTERVAL:P3D
CALSCALE:GREGORIAN
BEGIN:VEVENT
DTSTART;VALUE=DATE:20150625
DTEND;VALUE=DATE:20150628
TRANSP:TRANSPARENT
X-MICROSOFT-CDO-ALLDAYEVENT:TRUE
SUMMARY:2015 Bixby Green Corn Fesitval
DESCRIPTION:The Carnival will open at 6:00 on Thursday\, June 25th\, with $20 wristbands so bring out the kids and grandkids and enjoy the Green Corn Festival!\n\n\n\nClick Here for the 2015 Green Corn Festival Schedule
X-ALT-DESC;FMTTYPE=text/html:The Carnival will open at 6:00 on Thursday\, June 25<sup>th</sup>\, with $20 wristbands so bring out the kids and grandkids and enjoy the Green Corn Festival!<br />\n<br />\n<a href="http://cloud.chambermaster.com/userfiles/UserFiles/chambers/1611/File/My_folder/GC_Schedule_2015.pdf">Click Here for the 2015 Green Corn Festival Schedule</a><br />\n&nbsp\;
LOCATION:Downtown Bixby/Charley Young Park
UID:e.1611.1510
SEQUENCE:3
DTSTAMP:20260420T051314Z
URL:https://portal.bixbychamber.com/events/details/2015-bixby-green-corn-fesitval-06-25-2015-1510
END:VEVENT

END:VCALENDAR
