BEGIN:VCALENDAR
VERSION:2.0
PRODID:-//ChamberMaster//Event Calendar 2.0//EN
METHOD:PUBLISH
X-PUBLISHED-TTL:P3D
REFRESH-INTERVAL:P3D
CALSCALE:GREGORIAN
BEGIN:VEVENT
DTSTART:20150418T140000Z
DTEND:20150418T170000Z
X-MICROSOFT-CDO-ALLDAYEVENT:FALSE
SUMMARY:2015 Bixby Garden Club Plant Sale
DESCRIPTION:The Bixby Garden club will be having their annual fund raising plant sale.
X-ALT-DESC;FMTTYPE=text/html:The Bixby Garden club will be having their annual fund raising plant sale.
LOCATION:Bixby Community Center 211 N. Cabaniss Bixby
UID:e.1611.1528
SEQUENCE:3
DTSTAMP:20260420T064735Z
URL:https://portal.bixbychamber.com/events/details/2015-bixby-garden-club-plant-sale-04-18-2015-1528
END:VEVENT

END:VCALENDAR
