BEGIN:VCALENDAR
VERSION:2.0
PRODID:-//ChamberMaster//Event Calendar 2.0//EN
METHOD:PUBLISH
X-PUBLISHED-TTL:P3D
REFRESH-INTERVAL:P3D
CALSCALE:GREGORIAN
BEGIN:VEVENT
DTSTART:20150702T000000Z
DTEND:20150702T030000Z
X-MICROSOFT-CDO-ALLDAYEVENT:FALSE
SUMMARY:2015 Bixby Freedom Celebrations
DESCRIPTION:The Bixby Freedom Celebration is the Bixby area's first major Independence Day fireworks celebration.  The public will be invited to bring their lawn chairs\, blankets and games to enjoy a spectacular fireworks show in a family-friendly atmosphere. We are excited to announce that Congressman Jim Bridenstine\, State Representative Chuck Strohm\, and our very own Mayor John Easton will be speaking at the event.
X-ALT-DESC;FMTTYPE=text/html:The Bixby Freedom Celebration is the Bixby area&rsquo\;s first major Independence Day fireworks celebration.&nbsp\; The public will be invited to bring their lawn chairs\, blankets and games to enjoy a spectacular fireworks show in a family-friendly atmosphere. We are excited to announce that Congressman Jim Bridenstine\, State Representative Chuck Strohm\, and our very own Mayor John Easton will be speaking at the event.
LOCATION:The event will be located at Market Square on Memorial\, the 28 acres located on the northwest side of 121st and Memorial.
UID:e.1611.1638
SEQUENCE:3
DTSTAMP:20260420T022114Z
URL:https://portal.bixbychamber.com/events/details/2015-bixby-freedom-celebrations-07-01-2015-1638
END:VEVENT

END:VCALENDAR
