BEGIN:VCALENDAR
VERSION:2.0
PRODID:-//ChamberMaster//Event Calendar 2.0//EN
METHOD:PUBLISH
X-PUBLISHED-TTL:P3D
REFRESH-INTERVAL:P3D
CALSCALE:GREGORIAN
BEGIN:VEVENT
DTSTART:20150307T003000Z
DTEND:20150307T023000Z
X-MICROSOFT-CDO-ALLDAYEVENT:FALSE
SUMMARY:2015 Bixby FFA Pie & Labor Auction
DESCRIPTION:Pleas join us to help support our Bixby FFA Students\n\n\n\nItems Auction to the highest bidder:\n\nStudent Labor\n\nTheme Baskets\n\nFFA Student Fabrication Projects\n\nHomemade Desserts
X-ALT-DESC;FMTTYPE=text/html:Pleas join us to help support our Bixby FFA Students<br />\n<br />\n<strong>Items Auction to the highest bidder:</strong><br />\nStudent Labor<br />\nTheme Baskets<br />\nFFA Student Fabrication Projects<br />\nHomemade Desserts
LOCATION:Bixby Ag. Building on Mingo Rd. between 151st & 161st
UID:e.1611.1565
SEQUENCE:3
DTSTAMP:20260420T081808Z
URL:https://portal.bixbychamber.com/events/details/2015-bixby-ffa-pie-labor-auction-03-06-2015-1565
END:VEVENT

END:VCALENDAR
