BEGIN:VCALENDAR
VERSION:2.0
PRODID:-//ChamberMaster//Event Calendar 2.0//EN
METHOD:PUBLISH
X-PUBLISHED-TTL:P3D
REFRESH-INTERVAL:P3D
CALSCALE:GREGORIAN
BEGIN:VEVENT
DTSTART:20150618T150000Z
DTEND:20150620T230000Z
X-MICROSOFT-CDO-ALLDAYEVENT:FALSE
SUMMARY:2015 Bixby eWaste Collection Event
DESCRIPTION:Donors are asked to bring their unwanted electronics (computers\, televisions\, cell phones\, home electronics\, office equipment\, etc) Any type/age/condition is acceptable. No Recycling Fees! Donations are appreciated. Organizations with large loads are asked to call (918) 951-3902 to make arrangements before or after event so as not to overload our truck.
X-ALT-DESC;FMTTYPE=text/html:Donors are asked to bring their unwanted electronics (computers\, televisions\, cell phones\, home electronics\, office equipment\, etc) Any type/age/condition is acceptable. No Recycling Fees! Donations are appreciated. Organizations with large loads are asked to call (918) 951-3902 to make arrangements before or after event so as not to overload our truck.
LOCATION:Bixby Community Center 211 N Cabaniss Bixby Ok 74008
UID:e.1611.1625
SEQUENCE:3
DTSTAMP:20260420T034649Z
URL:https://portal.bixbychamber.com/events/details/2015-bixby-ewaste-collection-event-06-18-2015-1625
END:VEVENT

END:VCALENDAR
