BEGIN:VCALENDAR
VERSION:2.0
PRODID:-//ChamberMaster//Event Calendar 2.0//EN
METHOD:PUBLISH
X-PUBLISHED-TTL:P3D
REFRESH-INTERVAL:P3D
CALSCALE:GREGORIAN
BEGIN:VEVENT
DTSTART:20150616T170000Z
DTEND:20150616T230000Z
X-MICROSOFT-CDO-ALLDAYEVENT:FALSE
SUMMARY:2015 Bixby Community Guns & Hoses Blood Drive
DESCRIPTION:Support your local Fire and Police departments in their annual Guns & Hoses Community Blood Drive on Tuesday June 16th from 12-6pm @ the Bixby Community Center. Oklahomans need your support and donations today to help save the lives of our communities. All donors receive limited edition T-shirt and pass for 2 for the Tulsa Zoo.
X-ALT-DESC;FMTTYPE=text/html:Support your local Fire and Police departments in their annual Guns &amp\; Hoses Community Blood Drive on Tuesday June 16th from 12-6pm @ the Bixby Community Center. Oklahomans need your support and donations today to help save the lives of our communities. All donors receive limited edition T-shirt and pass for 2 for the Tulsa Zoo.
LOCATION:Bixby Community Center
UID:e.1611.1634
SEQUENCE:3
DTSTAMP:20260420T034820Z
URL:https://portal.bixbychamber.com/events/details/2015-bixby-community-guns-hoses-blood-drive-06-16-2015-1634
END:VEVENT

END:VCALENDAR
