BEGIN:VCALENDAR
VERSION:2.0
PRODID:-//ChamberMaster//Event Calendar 2.0//EN
METHOD:PUBLISH
X-PUBLISHED-TTL:P3D
REFRESH-INTERVAL:P3D
CALSCALE:GREGORIAN
BEGIN:VEVENT
DTSTART:20150501T220000Z
DTEND:20150502T040000Z
X-MICROSOFT-CDO-ALLDAYEVENT:FALSE
SUMMARY:2015 Bixby BBQ and Blues
DESCRIPTION:Every year\, on the first Friday and Saturday of May\, Washington Irving Memorial Park in Bixby is transformed into the largest BBQ festival in all of Oklahoma. It is two days of the State's best Barbeque and music all rolled into one and is a community fundraiser created by the Rotary Club of Bixby.\n\n \n\nThe Rotary Club of Bixby used funds from past festivals to build the Rotary Club of Bixby Amphitheater which is located in Washington Irving Memorial Park.\n\n \n\nProceeds from the first festival enabled the Club to present Bixby Public Schools with a large electronic marquee sign\, complete with a digitized message board. Located on Memorial Drive\, the sign promotes school activities from PTA meetings to athletic events.\n\n\n\n5:00 House Music\n\n6:00 Roland Bowling\n\n7:30 James Groves\n\n9:00 Steve Pryor
X-ALT-DESC;FMTTYPE=text/html:<p style="margin: 0px\; padding: 0px\; border-width: 0px\; -webkit-transform-origin: left top 0px\; transform-origin: left top 0px\; max-height: 1000000px\; color: rgb(255\, 255\, 255)\; font-family: Arial\, 'Helvetica Neue'\, Helvetica\, sans-serif\; line-height: 21px\; background-color: rgb(0\, 113\, 188)\;">Every year\, on the first Friday and Saturday of May\, Washington Irving Memorial Park in Bixby is transformed into the largest BBQ festival in all of Oklahoma. It is two days of the State&rsquo\;s best Barbeque and music all rolled into one and is a community fundraiser created by the Rotary Club of Bixby.</p>\n\n<p style="margin: 0px\; padding: 0px\; border-width: 0px\; -webkit-transform-origin: left top 0px\; transform-origin: left top 0px\; max-height: 1000000px\; color: rgb(255\, 255\, 255)\; font-family: Arial\, 'Helvetica Neue'\, Helvetica\, sans-serif\; line-height: 21px\; background-color: rgb(0\, 113\, 188)\;">&nbsp\;</p>\n\n<p style="margin: 0px\; padding: 0px\; border-width: 0px\; -webkit-transform-origin: left top 0px\; transform-origin: left top 0px\; max-height: 1000000px\; color: rgb(255\, 255\, 255)\; font-family: Arial\, 'Helvetica Neue'\, Helvetica\, sans-serif\; line-height: 21px\; background-color: rgb(0\, 113\, 188)\;">The Rotary Club of Bixby used funds from past festivals to build the Rotary Club of Bixby Amphitheater which is located in Washington Irving Memorial Park.</p>\n\n<p style="margin: 0px\; padding: 0px\; border-width: 0px\; -webkit-transform-origin: left top 0px\; transform-origin: left top 0px\; max-height: 1000000px\; color: rgb(255\, 255\, 255)\; font-family: Arial\, 'Helvetica Neue'\, Helvetica\, sans-serif\; line-height: 21px\; background-color: rgb(0\, 113\, 188)\;">&nbsp\;</p>\n\n<p style="margin: 0px\; padding: 0px\; border-width: 0px\; -webkit-transform-origin: left top 0px\; transform-origin: left top 0px\; max-height: 1000000px\; color: rgb(255\, 255\, 255)\; font-family: Arial\, 'Helvetica Neue'\, Helvetica\, sans-serif\; line-height: 21px\; background-color: rgb(0\, 113\, 188)\;">Proceeds from the first festival enabled the Club to present Bixby Public Schools with a large electronic marquee sign\, complete with a digitized message board. Located on Memorial Drive\, the sign promotes school activities from PTA meetings to athletic events.<br />\n<br />\n5:00 House Music<br />\n6:00 Roland Bowling<br />\n7:30 James Groves<br />\n9:00 Steve Pryor</p>\n
LOCATION:Washington Irving Memorial Park and Arboretum 13700 South Memorial Drive Bixby\, OK 74008
UID:e.1611.1600
SEQUENCE:3
DTSTAMP:20260420T052509Z
URL:https://portal.bixbychamber.com/events/details/2015-bixby-bbq-and-blues-05-01-2015-1600
END:VEVENT

END:VCALENDAR
