BEGIN:VCALENDAR
VERSION:2.0
PRODID:-//ChamberMaster//Event Calendar 2.0//EN
METHOD:PUBLISH
X-PUBLISHED-TTL:P3D
REFRESH-INTERVAL:P3D
CALSCALE:GREGORIAN
BEGIN:VEVENT
DTSTART:20150918T160000Z
DTEND:20150918T180000Z
X-MICROSOFT-CDO-ALLDAYEVENT:FALSE
SUMMARY:2015 Berkshire Plaza Block Party hosted by nJoy Vision
DESCRIPTION:We'd like to introduce ourselves and get to know you!\n\nJoin us for music and FREE food truck cuisine in the nJoy Vision and Berkshire Salon & Spa parking lot.\n\n\n\nLearn about nJoy Vision\, Berkshire Salon & Spa\, and Berkshire Dental Group's exciting new special offers\n\n\n\nSpecial offers and giveaways for discounts on LASIK\, $100 worth of Spa Services\, and Zoom Whitening (in office whitening\, 2 hour appointment\, includes custom trays for touch up) $350 value
X-ALT-DESC;FMTTYPE=text/html:We&rsquo\;d like&nbsp\;to introduce&nbsp\;ourselves and&nbsp\;get to know you!<br />\nJoin us for music&nbsp\;and FREE food truck&nbsp\;cuisine in the nJoy&nbsp\;Vision and Berkshire&nbsp\;Salon &amp\; Spa parking lot.<br />\n<br />\nLearn about nJoy Vision\, Berkshire Salon &amp\; Spa\, and Berkshire Dental Group&#39\;s exciting new special offers<br />\n<br />\nSpecial offers and giveaways&nbsp\;for discounts on LASIK\, $100 worth of Spa Services\, and Zoom Whitening (in office whitening\, 2 hour appointment\, includes custom trays for touch up) $350 value
LOCATION:Berkshire Medical Plaza 1601 South Eucalyptus Avenue Broken Arrow\, OK 74012
UID:e.1611.1666
SEQUENCE:3
DTSTAMP:20260419T234725Z
URL:https://portal.bixbychamber.com/events/details/2015-berkshire-plaza-block-party-hosted-by-njoy-vision-09-18-2015-1666
END:VEVENT

END:VCALENDAR
