BEGIN:VCALENDAR
VERSION:2.0
PRODID:-//ChamberMaster//Event Calendar 2.0//EN
METHOD:PUBLISH
X-PUBLISHED-TTL:P3D
REFRESH-INTERVAL:P3D
CALSCALE:GREGORIAN
BEGIN:VEVENT
DTSTART:20150815T140000Z
DTEND:20150815T170000Z
X-MICROSOFT-CDO-ALLDAYEVENT:FALSE
SUMMARY:2015 Back Pack Giveaway- Economy Pharmacy
DESCRIPTION:Saturday\, August 15th Economy Pharmacy at 91st and Highway\, 169 will be giving away 500 backpacks with school supplies. Doors open at 9:00 AM.  Please tell all your friends and family to come by and get free backpacks and school supplies. First come first serve
X-ALT-DESC;FMTTYPE=text/html:<span style="font-size:12px\;"><span style="font-family:arial\;"><span style="color:black\;">Saturday\, August 15th Economy Pharmacy&nbsp\;at 91st and Highway\, 169 will be giving away 500 backpacks with school supplies. Doors open at 9:00 AM. &nbsp\;Please tell all your friends and family to come by and get free backpacks and school supplies. First come first serve</span></span></span>
LOCATION:Economy Pharmacy 10120 East 91st Street Tulsa\, OK 74133
UID:e.1611.1649
SEQUENCE:3
DTSTAMP:20260420T010454Z
URL:https://portal.bixbychamber.com/events/details/2015-back-pack-giveaway-economy-pharmacy-08-15-2015-1649
END:VEVENT

END:VCALENDAR
