BEGIN:VCALENDAR
VERSION:2.0
PRODID:-//ChamberMaster//Event Calendar 2.0//EN
METHOD:PUBLISH
X-PUBLISHED-TTL:P3D
REFRESH-INTERVAL:P3D
CALSCALE:GREGORIAN
BEGIN:VEVENT
DTSTART:20150805T163000Z
DTEND:20150805T180000Z
X-MICROSOFT-CDO-ALLDAYEVENT:FALSE
SUMMARY:2015 August Business@Lunch
DESCRIPTION:The Bixby Metro Chamber Business@Lunch is an opportunity for Investment Partners to network and learn techniques to assist your business. The Business@Lunch series is continuing to grow with typically 150 plus business and community leaders in attendance. Anyone interested is invited to attend.\n\n\n\nAugust Speaker-\n\nHiring Trends\n\nLynn Flinn\, CPA\, President & Managing Partner of The Rowland Group | Professional Staffing Specialists\n\nLynn will give insight into what's going on in the hiring world in Tulsa and surrounding areas and discuss the impact of millennials in the workplace   what it means for you\, your organization and the way you hire and retain top talent. This interactive discussion promises to leave you with key takeaways you don't want to miss!
X-ALT-DESC;FMTTYPE=text/html:<span style="font-size:12px\;"><span style="font-family:arial\;"><span data-mce-style="color: #ffffff\;">T</span><span data-mce-style="color: #888888\;">he </span><span data-mce-style="color: #888888\;">Bixby Metro Chamber Business@Lunch is an opportunity for Investment Partners </span><span data-mce-style="color: #888888\;">to network and learn techniques to assist your business. The Business@Lunch series </span><span data-mce-style="color: #888888\;">is continuing to grow with typically 150 plus business and community leaders in attendance. Anyone interested is invited to attend.<br />\n<br />\nAugust Speaker-</span><br />\n<strong>Hiring Trends</strong><br />\n<em>Lynn Flinn\, CPA\, President &amp\; Managing Partner of The Rowland Group | Professional Staffing Specialists</em><br />\nLynn will give insight into what&rsquo\;s going on in the hiring world in Tulsa and surrounding areas and discuss the impact of millennials in the workplace &ndash\; what it means for you\, your organization and the way you hire and retain top talent. This interactive discussion promises to leave you with key takeaways you don&rsquo\;t want to miss!&nbsp\;</span></span><br />\n&nbsp\;
LOCATION:SpiritBank Event Center 10441 South Regal Boulevard Please park in the south parking garage.
UID:e.1611.1520
SEQUENCE:3
DTSTAMP:20260420T022221Z
URL:https://portal.bixbychamber.com/events/details/2015-august-business-lunch-08-05-2015-1520
END:VEVENT

END:VCALENDAR
