BEGIN:VCALENDAR
VERSION:2.0
PRODID:-//ChamberMaster//Event Calendar 2.0//EN
METHOD:PUBLISH
X-PUBLISHED-TTL:P3D
REFRESH-INTERVAL:P3D
CALSCALE:GREGORIAN
BEGIN:VEVENT
DTSTART:20150604T190000Z
DTEND:20150604T230000Z
X-MICROSOFT-CDO-ALLDAYEVENT:FALSE
SUMMARY:2015 AT&T Retail Sales Consultant Hiring Event
DESCRIPTION:Join us for a Hiring Event to learn about AT&T's exciting career opportunities and interview with Hiring Managers throughout the area.\n\nCandidates who apply and qualify prior to the event will be contacted for an\n\ninterview.\n\nTo ensure you have completed your application\, please electronically sign and take the AON Assessment. This assessment will be sent to you within minutes of you electronically signing your application.\n\nApply today at: http://attlinks.com/tulsaokretail
X-ALT-DESC;FMTTYPE=text/html:Join us for a Hiring Event to learn about AT&amp\;T&rsquo\;s exciting career opportunities and&nbsp\;interview with Hiring Managers throughout the area.<br />\nCandidates who apply and qualify prior to the event will be contacted for an<br />\ninterview.<br />\nTo ensure you have completed your application\, please electronically sign and&nbsp\;take the AON Assessment. This assessment will be sent to you within minutes of&nbsp\;you electronically signing your application.<br />\nApply today at: http://attlinks.com/tulsaokretail
LOCATION:Embassy Suites - Tulsa 3332 S. 79th East Avenue Tulsa\, OK 74145
UID:e.1611.1624
SEQUENCE:3
DTSTAMP:20260420T034952Z
URL:https://portal.bixbychamber.com/events/details/2015-at-t-retail-sales-consultant-hiring-event-06-04-2015-1624
END:VEVENT

END:VCALENDAR
