BEGIN:VCALENDAR
VERSION:2.0
PRODID:-//ChamberMaster//Event Calendar 2.0//EN
METHOD:PUBLISH
X-PUBLISHED-TTL:P3D
REFRESH-INTERVAL:P3D
CALSCALE:GREGORIAN
BEGIN:VEVENT
DTSTART:20151029T233000Z
DTEND:20151030T003000Z
X-MICROSOFT-CDO-ALLDAYEVENT:FALSE
SUMMARY:2015 Alzheimer's Intelligence presented by Forest Hills
DESCRIPTION:Join us for dinner as the experts from Tulsa CLincal Research discuss new studies concerning Alheimer's Genetics.
X-ALT-DESC;FMTTYPE=text/html:Join us for dinner as the experts from Tulsa CLincal Research discuss new studies concerning Alheimer&#39\;s Genetics.
LOCATION:Forest Hill Retirement COmmunity 4304 West Houston Broken Arrow\, OK
UID:e.1611.1682
SEQUENCE:3
DTSTAMP:20260419T223630Z
URL:https://portal.bixbychamber.com/events/details/2015-alzheimer-s-intelligence-presented-by-forest-hills-10-29-2015-1682
END:VEVENT

END:VCALENDAR
