BEGIN:VCALENDAR
VERSION:2.0
PRODID:-//ChamberMaster//Event Calendar 2.0//EN
METHOD:PUBLISH
X-PUBLISHED-TTL:P3D
REFRESH-INTERVAL:P3D
CALSCALE:GREGORIAN
BEGIN:VEVENT
DTSTART:20150328T140000Z
DTEND:20150328T210000Z
X-MICROSOFT-CDO-ALLDAYEVENT:FALSE
SUMMARY:2015 AGORA Spartan Craft Market
DESCRIPTION:Shop for springtime crafts\, homemade goodies\, jewelry\, teacher appreciation\, personalized gifts and more. Free Admission Hosted by Bixby North Elementary PTA Located at Bixby North Elementary 7701 E 121st Bixby OK 74008 For more information visit bnepta@bixbyps.org We are looking for vendors if you are interested contact Jackie Stevens 918-694-4141 Or jjjstevens@cox.net
X-ALT-DESC;FMTTYPE=text/html:Shop for springtime crafts\, homemade goodies\, jewelry\, teacher appreciation\, personalized gifts and more. Free Admission Hosted by Bixby North Elementary PTA Located at Bixby North Elementary 7701 E 121st Bixby OK 74008 For more information visit bnepta@bixbyps.org We are looking for vendors if you are interested contact Jackie Stevens 918-694-4141 Or jjjstevens@cox.net
LOCATION:Bixby North Elementary Gymnasium
UID:e.1611.1533
SEQUENCE:3
DTSTAMP:20260420T083457Z
URL:https://portal.bixbychamber.com/events/details/2015-agora-spartan-craft-market-03-28-2015-1533
END:VEVENT

END:VCALENDAR
