BEGIN:VCALENDAR
VERSION:2.0
PRODID:-//ChamberMaster//Event Calendar 2.0//EN
METHOD:PUBLISH
X-PUBLISHED-TTL:P3D
REFRESH-INTERVAL:P3D
CALSCALE:GREGORIAN
BEGIN:VEVENT
DTSTART:20150908T133000Z
DTEND:20150908T150000Z
X-MICROSOFT-CDO-ALLDAYEVENT:FALSE
SUMMARY:2015 Affordable Care Act: Where are we and what?s next?
DESCRIPTION:Affordable Care Act: Where are we and what's next?\n\nThis presentation will cover:\n\n  Recent developments\n\n  Upcoming guidance   what do we expect and hope for?\n\n  Common mistakes made\n\n  What employers should be focused on   right now
X-ALT-DESC;FMTTYPE=text/html:Affordable Care Act: Where are we and what&rsquo\;s next?<br />\nThis presentation will cover:<br />\n&#61623\; Recent developments<br />\n&#61623\; Upcoming guidance &ndash\; what do we expect and hope for?<br />\n&#61623\; Common mistakes made<br />\n&#61623\; What employers should be focused on &ndash\; right now
LOCATION:Directions Tulsa Country Club is conveniently located immediately Northwest of Downtown Tulsa. Physical Address: 701 North Union Ave.\, Tulsa\, OK 74127
UID:e.1611.1658
SEQUENCE:3
DTSTAMP:20260419T235329Z
URL:https://portal.bixbychamber.com/events/details/2015-affordable-care-act-where-are-we-and-what-s-next-09-08-2015-1658
END:VEVENT

END:VCALENDAR
