BEGIN:VCALENDAR
VERSION:2.0
PRODID:-//ChamberMaster//Event Calendar 2.0//EN
METHOD:PUBLISH
X-PUBLISHED-TTL:P3D
REFRESH-INTERVAL:P3D
CALSCALE:GREGORIAN
BEGIN:VEVENT
DTSTART:20150428T130000Z
DTEND:20150428T173000Z
X-MICROSOFT-CDO-ALLDAYEVENT:FALSE
SUMMARY:2015 A Day Without Business- Write Your Business Plan Workshop
DESCRIPTION:Building on past Tulsa Partners workshops such as the Spring 2014 A DAY WITHOUT BUSINESS Workshop or the Insurance Institute for Business and Home Safety (IBHS) Open for Business   classes\, this four hour workshop will walk you through how to write your emergency and business continuity plans. We are excited to have as a tool for this training a new Open for Business-EZ app\, made possible by EMC Insurance Companies in partnership with IBHS. Tailored to the needs of small businesses and nonprofits\, experts from the fields of continuity planning\, information technology\, insurance\, finance\, and disaster recovery will be available to assist you as you go through this hands-on workshop.\n\n \n\nWHAT DO YOU NEED TO HAVE TO PARTICIPATE IN THIS WORKSHOP?  If you have a desire to learn how to improve your business preparedness\, THIS IS FOR YOU! To enhance your experience\, please bring with you whatever electronic device you may want to use to access the IBHS Open for Business EZ app during the workshop.
X-ALT-DESC;FMTTYPE=text/html:Building on past Tulsa Partners workshops such as the Spring 2014 A DAY WITHOUT BUSINESS Workshop or the Insurance Institute for Business and Home Safety (IBHS) Open for Business &reg\; classes\, this four hour workshop will walk you through how to write your emergency and business continuity plans. We are excited to have as a tool for this training a new Open for Business-EZ app\, made possible by EMC Insurance Companies in partnership with IBHS. Tailored to the needs of small businesses and nonprofits\, experts from the fields of continuity planning\, information technology\, insurance\, finance\, and disaster recovery will be available to assist you as you go through this hands-on workshop.<br />\n&nbsp\;<br />\nWHAT DO YOU NEED TO HAVE TO PARTICIPATE IN THIS WORKSHOP?&nbsp\; If you have a desire to learn how to improve your business preparedness\, THIS IS FOR YOU! To enhance your experience\, please bring with you whatever electronic device you may want to use to access the IBHS Open for Business EZ app during the workshop.
LOCATION:Oklahoma State University-Tulsa 701 North Greenwood Avenue Tulsa\, Oklahoma
UID:e.1611.1589
SEQUENCE:3
DTSTAMP:20260420T064432Z
URL:https://portal.bixbychamber.com/events/details/2015-a-day-without-business-write-your-business-plan-workshop-04-28-2015-1589
END:VEVENT

END:VCALENDAR
