BEGIN:VCALENDAR
VERSION:2.0
PRODID:-//ChamberMaster//Event Calendar 2.0//EN
METHOD:PUBLISH
X-PUBLISHED-TTL:P3D
REFRESH-INTERVAL:P3D
CALSCALE:GREGORIAN
BEGIN:VEVENT
DTSTART:20141218T160000Z
DTEND:20141219T010000Z
X-MICROSOFT-CDO-ALLDAYEVENT:FALSE
SUMMARY:2014 WSI Job Fair
DESCRIPTION:We are currently hiring Fork Lift Operators and Palletizer Operators.\n\nRoles start at $11.50/hr with progressive pay beginning after 90 days.\n\nCandidates must be able to work the night shift\, 6:00 pm-6:30 am.\n\nHigh School Diploma/GED required.\n\nMust be able to read\, speak and write English with confidence.\n\nPrevious lift truck or warehouse experience is valuable\, but not necessary.\n\nWe will train the right candidate.\n\nCareer advancement opportunities available within the facility\n\nEqual Opportunity Employer\n\nWSI is the contracted warehouse provider for the Kimberly-Clark plant in Jenks\, OK.
X-ALT-DESC;FMTTYPE=text/html:<span style="font-size:12px\;"><span style="font-family:arial\;">We are currently hiring Fork Lift Operators and Palletizer Operators.<br />\nRoles start at $11.50/hr with progressive pay beginning after 90 days.<br />\nCandidates must be able to work the night shift\, 6:00 pm-6:30 am.<br />\nHigh School Diploma/GED required.<br />\nMust be able to read\, speak and write English with confidence.<br />\nPrevious lift truck or warehouse experience is valuable\, but not necessary.<br />\nWe will train the right candidate.<br />\nCareer advancement opportunities available within the facility<br />\nEqual Opportunity Employer<br />\nWSI is the contracted warehouse provider for the Kimberly-Clark plant in Jenks\, OK.</span></span><br />\n&nbsp\;
LOCATION:Hampton Inn and Suites 8220 East Regal Place Tulsa\, OK 74133
UID:e.1611.1514
SEQUENCE:3
DTSTAMP:20260420T122431Z
URL:https://portal.bixbychamber.com/events/details/2014-wsi-job-fair-12-18-2014-1514
END:VEVENT

END:VCALENDAR
