BEGIN:VCALENDAR
VERSION:2.0
PRODID:-//ChamberMaster//Event Calendar 2.0//EN
METHOD:PUBLISH
X-PUBLISHED-TTL:P3D
REFRESH-INTERVAL:P3D
CALSCALE:GREGORIAN
BEGIN:VEVENT
DTSTART:20141021T183000Z
DTEND:20141021T203000Z
X-MICROSOFT-CDO-ALLDAYEVENT:FALSE
SUMMARY:2014 Workforce Tulsa Job Recruitment Event
DESCRIPTION:Dress to Impress! Business attire is highly recommended. This is a first level interview and capacity is limited. Durations of recruitment events vary\, so please be prepared to spend over an hour with us.\n\n \nPositions include:\n \n\n\n	Customer Service Representative\n	Collectors\n	Technical Customer Service Representative\n	Carpenter\n	Painter\n	Team Leader\n	Talent Acquisition Administrator\n	Journeyman Electrician\n	Recruiter\n	Dispatcher\n	Diesel Mechanic\n	Housekeeper\n	Bartender\n	Account Broker\n	IT Administrative Assistant\n	Truck Detailer\n	Sales Associate\n	Maintenance Mechanic\n	CDL-A Drivers\n	Drivers\n	Core Maker\n	Radiographic Interpreter\n	Production Coordinator
X-ALT-DESC;FMTTYPE=text/html:<span style="font-family:calibri\,sans-serif\;"><span style="font-size:11.0pt\;">Dress to Impress! Business attire is highly recommended. This is a first level interview and capacity is limited. Durations of recruitment events vary\, so please be prepared to spend over an hour with us.</span></span><br />\n&nbsp\;\n<div><strong><span style="font-family:tahoma\,sans-serif\;"><span style="font-size:12.0pt\;">Positions include:</span></span></strong></div>\n&nbsp\;\n\n<ul>\n	<li style="background-image:initial\;background-attachment:initial\;background-size:initial\;background-origin:initial\;background-clip:initial\;background-position:initial\;background-repeat:initial\;"><strong><span style="color:#212121\;"><span style="font-family:tahoma\,sans-serif\;"><span style="font-size:12.0pt\;">Customer Service Representative</span></span></span></strong></li>\n	<li style="background-image:initial\;background-attachment:initial\;background-size:initial\;background-origin:initial\;background-clip:initial\;background-position:initial\;background-repeat:initial\;"><strong><span style="color:#212121\;"><span style="font-family:tahoma\,sans-serif\;"><span style="font-size:12.0pt\;">Collectors</span></span></span></strong></li>\n	<li style="background-image:initial\;background-attachment:initial\;background-size:initial\;background-origin:initial\;background-clip:initial\;background-position:initial\;background-repeat:initial\;"><strong><span style="color:#212121\;"><span style="font-family:tahoma\,sans-serif\;"><span style="font-size:12.0pt\;">Technical Customer Service Representative</span></span></span></strong></li>\n	<li style="background-image:initial\;background-attachment:initial\;background-size:initial\;background-origin:initial\;background-clip:initial\;background-position:initial\;background-repeat:initial\;"><strong><span style="color:#212121\;"><span style="font-family:tahoma\,sans-serif\;"><span style="font-size:12.0pt\;">Carpenter</span></span></span></strong></li>\n	<li style="background-image:initial\;background-attachment:initial\;background-size:initial\;background-origin:initial\;background-clip:initial\;background-position:initial\;background-repeat:initial\;"><strong><span style="color:#212121\;"><span style="font-family:tahoma\,sans-serif\;"><span style="font-size:12.0pt\;">Painter</span></span></span></strong></li>\n	<li style="background-image:initial\;background-attachment:initial\;background-size:initial\;background-origin:initial\;background-clip:initial\;background-position:initial\;background-repeat:initial\;"><strong><span style="color:#212121\;"><span style="font-family:tahoma\,sans-serif\;"><span style="font-size:12.0pt\;">Team Leader</span></span></span></strong></li>\n	<li style="background-image:initial\;background-attachment:initial\;background-size:initial\;background-origin:initial\;background-clip:initial\;background-position:initial\;background-repeat:initial\;"><strong><span style="color:#212121\;"><span style="font-family:tahoma\,sans-serif\;"><span style="font-size:12.0pt\;">Talent Acquisition Administrator</span></span></span></strong></li>\n	<li style="background-image:initial\;background-attachment:initial\;background-size:initial\;background-origin:initial\;background-clip:initial\;background-position:initial\;background-repeat:initial\;"><strong><span style="color:#212121\;"><span style="font-family:tahoma\,sans-serif\;"><span style="font-size:12.0pt\;">Journeyman Electrician</span></span></span></strong></li>\n	<li style="background-image:initial\;background-attachment:initial\;background-size:initial\;background-origin:initial\;background-clip:initial\;background-position:initial\;background-repeat:initial\;"><strong><span style="color:#212121\;"><span style="font-family:tahoma\,sans-serif\;"><span style="font-size:12.0pt\;">Recruiter</span></span></span></strong></li>\n	<li style="background-image:initial\;background-attachment:initial\;background-size:initial\;background-origin:initial\;background-clip:initial\;background-position:initial\;background-repeat:initial\;"><strong><span style="color:#212121\;"><span style="font-family:tahoma\,sans-serif\;"><span style="font-size:12.0pt\;">Dispatcher</span></span></span></strong></li>\n	<li style="background-image:initial\;background-attachment:initial\;background-size:initial\;background-origin:initial\;background-clip:initial\;background-position:initial\;background-repeat:initial\;"><strong><span style="color:#212121\;"><span style="font-family:tahoma\,sans-serif\;"><span style="font-size:12.0pt\;">Diesel Mechanic</span></span></span></strong></li>\n	<li style="background-image:initial\;background-attachment:initial\;background-size:initial\;background-origin:initial\;background-clip:initial\;background-position:initial\;background-repeat:initial\;"><strong><span style="color:#212121\;"><span style="font-family:tahoma\,sans-serif\;"><span style="font-size:12.0pt\;">Housekeeper</span></span></span></strong></li>\n	<li style="background-image:initial\;background-attachment:initial\;background-size:initial\;background-origin:initial\;background-clip:initial\;background-position:initial\;background-repeat:initial\;"><strong><span style="color:#212121\;"><span style="font-family:tahoma\,sans-serif\;"><span style="font-size:12.0pt\;">Bartender</span></span></span></strong></li>\n	<li style="background-image:initial\;background-attachment:initial\;background-size:initial\;background-origin:initial\;background-clip:initial\;background-position:initial\;background-repeat:initial\;"><strong><span style="color:#212121\;"><span style="font-family:tahoma\,sans-serif\;"><span style="font-size:12.0pt\;">Account Broker</span></span></span></strong></li>\n	<li style="background-image:initial\;background-attachment:initial\;background-size:initial\;background-origin:initial\;background-clip:initial\;background-position:initial\;background-repeat:initial\;"><strong><span style="color:#212121\;"><span style="font-family:tahoma\,sans-serif\;"><span style="font-size:12.0pt\;">IT Administrative Assistant</span></span></span></strong></li>\n	<li style="background-image:initial\;background-attachment:initial\;background-size:initial\;background-origin:initial\;background-clip:initial\;background-position:initial\;background-repeat:initial\;"><strong><span style="color:#212121\;"><span style="font-family:tahoma\,sans-serif\;"><span style="font-size:12.0pt\;">Truck Detailer</span></span></span></strong></li>\n	<li style="background-image:initial\;background-attachment:initial\;background-size:initial\;background-origin:initial\;background-clip:initial\;background-position:initial\;background-repeat:initial\;"><strong><span style="color:#212121\;"><span style="font-family:tahoma\,sans-serif\;"><span style="font-size:12.0pt\;">Sales Associate</span></span></span></strong></li>\n	<li style="background-image:initial\;background-attachment:initial\;background-size:initial\;background-origin:initial\;background-clip:initial\;background-position:initial\;background-repeat:initial\;"><strong><span style="color:#212121\;"><span style="font-family:tahoma\,sans-serif\;"><span style="font-size:12.0pt\;">Maintenance Mechanic</span></span></span></strong></li>\n	<li style="background-image:initial\;background-attachment:initial\;background-size:initial\;background-origin:initial\;background-clip:initial\;background-position:initial\;background-repeat:initial\;"><strong><span style="color:#212121\;"><span style="font-family:tahoma\,sans-serif\;"><span style="font-size:12.0pt\;">CDL-A Drivers</span></span></span></strong></li>\n	<li style="background-image:initial\;background-attachment:initial\;background-size:initial\;background-origin:initial\;background-clip:initial\;background-position:initial\;background-repeat:initial\;"><strong><span style="color:#212121\;"><span style="font-family:tahoma\,sans-serif\;"><span style="font-size:12.0pt\;">Drivers</span></span></span></strong></li>\n	<li style="background-image:initial\;background-attachment:initial\;background-size:initial\;background-origin:initial\;background-clip:initial\;background-position:initial\;background-repeat:initial\;"><strong><span style="color:#212121\;"><span style="font-family:tahoma\,sans-serif\;"><span style="font-size:12.0pt\;">Core Maker</span></span></span></strong></li>\n	<li style="background-image:initial\;background-attachment:initial\;background-size:initial\;background-origin:initial\;background-clip:initial\;background-position:initial\;background-repeat:initial\;"><strong><span style="color:#212121\;"><span style="font-family:tahoma\,sans-serif\;"><span style="font-size:12.0pt\;">Radiographic Interpreter</span></span></span></strong></li>\n	<li style="background-image:initial\;background-attachment:initial\;background-size:initial\;background-origin:initial\;background-clip:initial\;background-position:initial\;background-repeat:initial\;"><strong><span style="color:#212121\;"><span style="font-family:tahoma\,sans-serif\;"><span style="font-size:12.0pt\;">Production Coordinator</span></span></span></strong></li>\n</ul>\n
LOCATION:Eastgate Workforce Center 14002 E 21st Street\, Suite 1030 Tulsa\, OK 74134
UID:e.1611.1457
SEQUENCE:3
DTSTAMP:20260420T145544Z
URL:https://portal.bixbychamber.com/events/details/2014-workforce-tulsa-job-recruitment-event-10-21-2014-1457
END:VEVENT

END:VCALENDAR
