BEGIN:VCALENDAR
VERSION:2.0
PRODID:-//ChamberMaster//Event Calendar 2.0//EN
METHOD:PUBLISH
X-PUBLISHED-TTL:P3D
REFRESH-INTERVAL:P3D
CALSCALE:GREGORIAN
BEGIN:VEVENT
DTSTART:20140606T230000Z
DTEND:20140607T020000Z
X-MICROSOFT-CDO-ALLDAYEVENT:FALSE
SUMMARY:2014 What is Health? A Night of Wellness featuring Dr. Alan Rousso
DESCRIPTION:If you have always wondered what having health truly means and would like to learn how to get healthy and stay healthy\, this is an event you won't want to miss and one you will want to bring friends to! Please join us for this FREE event complete with dinner. Our guest speaker\, Dr. Alan Rousso\, is a world-renowned speaker and Professional Certified Coach. Call our office or visit eventbrite.com to register.
X-ALT-DESC;FMTTYPE=text/html:If you have always wondered what having health truly means and would like to learn how to get healthy and stay healthy\, this is an event you won&#39\;t want to miss and one you will want to bring friends to! Please join us for this FREE event complete with dinner. Our guest speaker\, Dr. Alan Rousso\, is a world-renowned speaker and Professional Certified Coach. Call our office or visit eventbrite.com to register.
LOCATION:Renaissance Tulsa Hotel & Convention Center\, 6808 South 107th East Avenue
UID:e.1611.1384
SEQUENCE:3
DTSTAMP:20260420T200929Z
URL:https://portal.bixbychamber.com/events/details/2014-what-is-health-a-night-of-wellness-featuring-dr-alan-rousso-06-06-2014-1384
END:VEVENT

END:VCALENDAR
