BEGIN:VCALENDAR
VERSION:2.0
PRODID:-//ChamberMaster//Event Calendar 2.0//EN
METHOD:PUBLISH
X-PUBLISHED-TTL:P3D
REFRESH-INTERVAL:P3D
CALSCALE:GREGORIAN
BEGIN:VEVENT
DTSTART:20141121T004500Z
DTEND:20141121T014500Z
X-MICROSOFT-CDO-ALLDAYEVENT:FALSE
SUMMARY:2014 Veterans Benefits Seminar
DESCRIPTION:Veterans Benefits Seminar hosted by Forrest Hills Community\n\n\n\nGet answers to questions concerning whether VA benefits are available for you or a loved one.
X-ALT-DESC;FMTTYPE=text/html:Veterans Benefits Seminar hosted by Forrest Hills Community<br />\n<br />\nGet answers to questions concerning whether VA benefits are available for you or a loved one.
LOCATION:Forest Hills Assisted Living 4304 West Houston Broken Arrow\, OK 74012
UID:e.1611.1465
SEQUENCE:3
DTSTAMP:20260420T150622Z
URL:https://portal.bixbychamber.com/events/details/2014-veterans-benefits-seminar-11-20-2014-1465
END:VEVENT

END:VCALENDAR
