BEGIN:VCALENDAR
VERSION:2.0
PRODID:-//ChamberMaster//Event Calendar 2.0//EN
METHOD:PUBLISH
X-PUBLISHED-TTL:P3D
REFRESH-INTERVAL:P3D
CALSCALE:GREGORIAN
BEGIN:VEVENT
DTSTART;VALUE=DATE:20140601
DTEND;VALUE=DATE:20140605
TRANSP:TRANSPARENT
X-MICROSOFT-CDO-ALLDAYEVENT:TRUE
SUMMARY:2014 Vacation Bible School
DESCRIPTION:Please join us for "You are a Masterpiece" Vacation Bible School.
X-ALT-DESC;FMTTYPE=text/html:Please join us for &quot\;You are a Masterpiece&quot\; Vacation&nbsp\;Bible School.&nbsp\;&nbsp\;&nbsp\;&nbsp\;
LOCATION:Downtown Bixby Church of Christ 157th and Memorial
UID:e.1611.1371
SEQUENCE:3
DTSTAMP:20260420T200544Z
URL:https://portal.bixbychamber.com/events/details/2014-vacation-bible-school-06-01-2014-1371
END:VEVENT

END:VCALENDAR
