BEGIN:VCALENDAR
VERSION:2.0
PRODID:-//ChamberMaster//Event Calendar 2.0//EN
METHOD:PUBLISH
X-PUBLISHED-TTL:P3D
REFRESH-INTERVAL:P3D
CALSCALE:GREGORIAN
BEGIN:VEVENT
DTSTART:20140322T180000Z
DTEND:20140322T220000Z
X-MICROSOFT-CDO-ALLDAYEVENT:FALSE
SUMMARY:2014 TU Softball Dollar Day
DESCRIPTION:The TU Softball team would like to invite you to Dollar Day! On Saturday\, March 22\, the 21st ranked in the nation TU Softball team faces C-USA opponent\, Charlotte\, for a double header. Game one starts at 1pm and game two of the double header will follow at 3pm. \n\n \n\nWe are offering $1 admission to the public for this game. We encourage all youth teams and organizations to attend! For both games\, three lucky kids will be selected to announce the batters for one inning!\n\n \n\nThank you for your time and we look forward to seeing you at TU Softball Dollar Day!
X-ALT-DESC;FMTTYPE=text/html:The TU Softball team would like to invite you to Dollar Day! On Saturday\, March 22\, the 21st ranked in the nation TU Softball team faces C-USA opponent\, Charlotte\, for a double header. Game one starts at 1pm and game two of the double header will follow at 3pm.&nbsp\;<br />\n&nbsp\;<br />\nWe are offering $1 admission to the public for this game. We encourage all youth teams and organizations to attend! For both games\, three lucky kids will be selected to announce the batters for one inning!<br />\n&nbsp\;<br />\nThank you for your time and we look forward to seeing you at TU Softball Dollar Day!
LOCATION:
UID:e.1611.1337
SEQUENCE:3
DTSTAMP:20260421T000848Z
URL:https://portal.bixbychamber.com/events/details/2014-tu-softball-dollar-day-03-22-2014-1337
END:VEVENT

END:VCALENDAR
