BEGIN:VCALENDAR
VERSION:2.0
PRODID:-//ChamberMaster//Event Calendar 2.0//EN
METHOD:PUBLISH
X-PUBLISHED-TTL:P3D
REFRESH-INTERVAL:P3D
CALSCALE:GREGORIAN
BEGIN:VEVENT
DTSTART:20140408T213000Z
DTEND:20140408T233000Z
X-MICROSOFT-CDO-ALLDAYEVENT:FALSE
SUMMARY:2014 Tedford Insurance Celebrating 100th Birthday of Flagship Building
DESCRIPTION:Join Tedford Insurance in Celebrating the 100th birthday of their flagship building.
X-ALT-DESC;FMTTYPE=text/html:Join Tedford Insurance in Celebrating the 100th birthday of their flagship building.
LOCATION:121 East Main Street Jenks\, OK
UID:e.1611.1338
SEQUENCE:3
DTSTAMP:20260420T225631Z
URL:https://portal.bixbychamber.com/events/details/2014-tedford-insurance-celebrating-100th-birthday-of-flagship-building-04-08-2014-1338
END:VEVENT

END:VCALENDAR
