BEGIN:VCALENDAR
VERSION:2.0
PRODID:-//ChamberMaster//Event Calendar 2.0//EN
METHOD:PUBLISH
X-PUBLISHED-TTL:P3D
REFRESH-INTERVAL:P3D
CALSCALE:GREGORIAN
BEGIN:VEVENT
DTSTART:20140612T223000Z
DTEND:20140613T013000Z
X-MICROSOFT-CDO-ALLDAYEVENT:FALSE
SUMMARY:2014 Taste of Bixby
DESCRIPTION:The Taste of Bixby is the networking event of the year with live music\, great food and drinks. It's an opportunity for networkers to meet with prospective clients in a casual fun atmosphere. Whether you're in the mood for a gourmet dessert\, slice of pizza or a glass of wine\, all your cravings will be satisfied at the 2014 Taste of Bixby. The event is open to the public.\n\n\n\nClick Register Online above to purchase your tickets.\n\n\n\nPartner with a Chef Raffle\n\nJoin Chef Michael Minden of Bixby's Favorite Business - Michael V's\, a 4-Star Restaurant at 103rd and Memorial to "Partner with a Chef". Sit at the chef's table in the middle of the action on a Friday or Saturday night. \n\n \n\nWork with Chef Michael and get hands on experience of working the line while personally cooking a four course wine dinner for you and up to 3 guests. This package is valued at $400\, but is truly a priceless experience. Raffle tickets are $10.00 each or 3 for $25.00 and are available now! Click Register Online to purchase your raffle tickets!
X-ALT-DESC;FMTTYPE=text/html:<span style="font-size:12px\;"><span style="font-family:arial\;">The Taste of Bixby is the networking event of the year with live music\, great food and drinks. It&#39\;s an opportunity for networkers to meet with prospective clients in a casual fun atmosphere. Whether you&#39\;re in the mood for a gourmet dessert\, slice of pizza or a glass of wine\, all your cravings will be satisfied at the 2014 Taste of Bixby. The event is open to the public.<br />\n<br />\nClick<strong> Register Online</strong> above to purchase your tickets.<br />\n<br />\n<span style="font-size:14px\;"><strong>Partner with a Chef Raffle</strong></span></span></span>\n\n<p style="color: rgb(85\, 85\, 85)\; font-family: Arial\, Helvetica\, sans-serif\; font-size: 10pt\; line-height: normal\; margin-top: 0px\; margin-bottom: 0px\;"><span style="font-size:12px\;"><span style="font-family:arial\;"><strong>Join Chef Michael Minden</strong>&nbsp\;of Bixby&#39\;s Favorite Business - Michael V&#39\;s\, a 4-Star Restaurant at 103rd and Memorial to &quot\;Partner with a Chef&quot\;. Sit at the chef&#39\;s table in the middle of the action on a Friday or Saturday night.&nbsp\;</span></span></p>\n\n<p style="color: rgb(85\, 85\, 85)\; font-family: Arial\, Helvetica\, sans-serif\; font-size: 10pt\; line-height: normal\; margin-top: 0px\; margin-bottom: 0px\;">&nbsp\;</p>\n\n<p style="color: rgb(85\, 85\, 85)\; font-family: Arial\, Helvetica\, sans-serif\; font-size: 10pt\; line-height: normal\; margin-top: 0px\; margin-bottom: 0px\;"><span style="font-size:12px\;"><span style="font-family:arial\;">Work with Chef Michael and get hands on experience of working the line while personally cooking a four course wine dinner for you and up to 3 guests. This package is&nbsp\;<strong>valued at $400</strong>\, but is truly a priceless experience. Raffle tickets are<strong>&nbsp\;$10.00 each or 3 for $25.00</strong>&nbsp\;and are available now! Click <strong>Register Online</strong> to purchase your raffle tickets!</span></span></p>\n
LOCATION:SpiritBank Event Center Arena 10441 South Regal Boulevard Tulsa\, OK 74133
UID:e.1611.1288
SEQUENCE:3
DTSTAMP:20260420T200709Z
URL:https://portal.bixbychamber.com/events/details/2014-taste-of-bixby-06-12-2014-1288
END:VEVENT

END:VCALENDAR
