BEGIN:VCALENDAR
VERSION:2.0
PRODID:-//ChamberMaster//Event Calendar 2.0//EN
METHOD:PUBLISH
X-PUBLISHED-TTL:P3D
REFRESH-INTERVAL:P3D
CALSCALE:GREGORIAN
BEGIN:VEVENT
DTSTART:20140814T170000Z
DTEND:20140814T170000Z
X-MICROSOFT-CDO-ALLDAYEVENT:FALSE
SUMMARY:2014 Summer Marketing Mentor Series
DESCRIPTION:Join Dr Steve Greene of Steve Greene Consulting as he leads you in three sessions designed to immediately improve you and your business.\n\n			\n\n			DEVELOPING BETTER STRATEGY FOR SOCIAL MEDIA \n\n			 \n\n			Does your content match your context? If your Facebook\, Twitter\, Pinterest and Linked In accounts all look about the same...this session will change how you think about the use of social media. \n\n			 \n\n			Our goals must be measured by a higher bar than likes\, faves or follows. Imagine what radio and television advertising would be today if we based results on "likes?" You will learn a specific tool to measure return on relationship. Your work with "soft media" can and should be measured. You learn how to develop a specific process that leads a social connection into your sales funnel. \n\n			 \n\n			You will also be challenged to think critically about the notion that social media is free. The "spray and pray" method of distributing content has a measurable effect on your bottom line. Learn how to maximize the impact of every social message designed to increase revenue.
X-ALT-DESC;FMTTYPE=text/html:<table align="center" border="0" cellpadding="0" cellspacing="0" style="width:100.0%\;" width="100%">\n	<tbody>\n		<tr>\n			<td style="padding:6.0pt 24.0pt 6.75pt 24.0pt\;vertical-align:top\;"><span style="color:#555555\;"><span style="font-family:arial\,sans-serif\;">Join Dr Steve Greene of Steve Greene Consulting as he leads you in three sessions designed to immediately improve you and your business.</span></span><br />\n			<br />\n			<strong><span style="color:#555555\;"><span style="font-family:arial\,sans-serif\;"><span style="font-size:14.0pt\;">DEVELOPING BETTER STRATEGY FOR SOCIAL MEDIA&nbsp\;</span></span></span></strong><br />\n			&nbsp\;<br />\n			<span style="color:#555555\;"><span style="font-family:arial\,sans-serif\;"><span style="font-size:10.0pt\;">Does your content match your context? If your Facebook\, Twitter\, Pinterest and Linked In accounts all look about the same...this session will change how you think about the use of social media.&nbsp\;</span></span></span><br />\n			&nbsp\;<br />\n			<span style="color:#555555\;"><span style="font-family:arial\,sans-serif\;"><span style="font-size:10.0pt\;">Our goals must be measured by a higher bar than likes\, faves or follows. Imagine what radio and television advertising would be today if we based results on &quot\;likes?&quot\; You will learn a specific tool to measure return on relationship. Your work with &quot\;soft media&quot\; can and should be measured. You learn how to develop a specific process that leads a social connection into your sales funnel.&nbsp\;</span></span></span><br />\n			&nbsp\;<br />\n			<span style="color:#555555\;"><span style="font-family:arial\,sans-serif\;"><span style="font-size:10.0pt\;">You will also be challenged to think critically about the notion that social media is free. The &quot\;spray and pray&quot\; method of distributing content has a measurable effect on your bottom line. Learn how to maximize the impact of every social message designed to increase revenue.</span></span></span><br />\n			&nbsp\;</td>\n		</tr>\n	</tbody>\n</table>\n
LOCATION:Cedar Ridge Country Club 10302 South Garnett Road Broken Arrow\, OK 74011
UID:e.1611.1398
SEQUENCE:3
DTSTAMP:20260420T172423Z
URL:https://portal.bixbychamber.com/events/details/2014-summer-marketing-mentor-series-08-14-2014-1398
END:VEVENT

END:VCALENDAR
