BEGIN:VCALENDAR
VERSION:2.0
PRODID:-//ChamberMaster//Event Calendar 2.0//EN
METHOD:PUBLISH
X-PUBLISHED-TTL:P3D
REFRESH-INTERVAL:P3D
CALSCALE:GREGORIAN
BEGIN:VEVENT
DTSTART:20140411T140000Z
DTEND:20140411T200000Z
X-MICROSOFT-CDO-ALLDAYEVENT:FALSE
SUMMARY:2014 Stewart Martin Equipment and Kubota of Tulsa Ride and Drive
DESCRIPTION:Come and see \, new Kubota \, Walker\, and Hustler mowers along with the newest construction equipment such as excavators\, SVL Skid Steers \, along with Kubota \,Krone and Vermeer Hay Equipment\n\n \n\nOpen House will be at the Okmulgee store along with door prizes and snacks.\n\n \n\nCome and Join the employees of Stewart Martin Equipment and enjoy the promo prices.
X-ALT-DESC;FMTTYPE=text/html:Come and see \, new Kubota \, Walker\, and Hustler mowers along with the newest construction equipment such as excavators\, SVL Skid Steers \, along with Kubota \,Krone and Vermeer Hay Equipment<br />\n&nbsp\;<br />\nOpen House will be at the Okmulgee store along with door prizes and snacks.<br />\n&nbsp\;<br />\nCome and Join the employees of Stewart Martin Equipment and enjoy the promo prices.
LOCATION:Okmulgee Airport
UID:e.1611.1359
SEQUENCE:3
DTSTAMP:20260420T225502Z
URL:https://portal.bixbychamber.com/events/details/2014-stewart-martin-equipment-and-kubota-of-tulsa-ride-and-drive-04-11-2014-1359
END:VEVENT

END:VCALENDAR
