BEGIN:VCALENDAR
VERSION:2.0
PRODID:-//ChamberMaster//Event Calendar 2.0//EN
METHOD:PUBLISH
X-PUBLISHED-TTL:P3D
REFRESH-INTERVAL:P3D
CALSCALE:GREGORIAN
BEGIN:VEVENT
DTSTART:20140513T133000Z
DTEND:20140513T160000Z
X-MICROSOFT-CDO-ALLDAYEVENT:FALSE
SUMMARY:2014 State Retail Day at the Capitol
DESCRIPTION:You are invited to join us for a breakfast with your legislators.\n\nThe event will focus on the passage of HB2720 which will use e-fairness\, when passed at the federal level\, as a vehicle to lower state taxes.
X-ALT-DESC;FMTTYPE=text/html:<p style="line-height: normal\; margin: 0px\; padding: 0px 0px 8px\; color: rgb(102\, 102\, 102)\; font-family: 'Helvetica Neue'\, Helvetica\, Arial\, sans-serif\;">You are invited to join us for a breakfast with your legislators.</p>\n\n<p style="line-height: normal\; margin: 0px\; padding: 0px 0px 8px\; color: rgb(102\, 102\, 102)\; font-family: 'Helvetica Neue'\, Helvetica\, Arial\, sans-serif\; text-align: center\;">The event will focus on the passage of HB2720 which will use e-fairness\, when passed at the federal level\, as a vehicle to lower state taxes.</p>\n
LOCATION:Oklahoma State Capitol\, 2nd floor Rotunda 2300 N. Lincoln Blvd\, Oklahoma City Visitor parking available in south lot
UID:e.1611.1372
SEQUENCE:3
DTSTAMP:20260420T213933Z
URL:https://portal.bixbychamber.com/events/details/2014-state-retail-day-at-the-capitol-05-13-2014-1372
END:VEVENT

END:VCALENDAR
