BEGIN:VCALENDAR
VERSION:2.0
PRODID:-//ChamberMaster//Event Calendar 2.0//EN
METHOD:PUBLISH
X-PUBLISHED-TTL:P3D
REFRESH-INTERVAL:P3D
CALSCALE:GREGORIAN
BEGIN:VEVENT
DTSTART:20140508T230000Z
DTEND:20140509T010000Z
X-MICROSOFT-CDO-ALLDAYEVENT:FALSE
SUMMARY:2014 Spaghetti Dinner and Dessert Auction
DESCRIPTION:Spaghetti Dinner and Dessert Auction\n\n\n\nOld fashion small town fun!\n\n\n\nSponsored by: Bixby Historical Society
X-ALT-DESC;FMTTYPE=text/html:Spaghetti Dinner and Dessert Auction<br />\n<br />\nOld fashion small town fun!<br />\n<br />\nSponsored by: Bixby Historical Society
LOCATION:Crossraod Fellowship Activity Center 100 West Dawes
UID:e.1611.1373
SEQUENCE:3
DTSTAMP:20260420T213749Z
URL:https://portal.bixbychamber.com/events/details/2014-spaghetti-dinner-and-dessert-auction-05-08-2014-1373
END:VEVENT

END:VCALENDAR
