BEGIN:VCALENDAR
VERSION:2.0
PRODID:-//ChamberMaster//Event Calendar 2.0//EN
METHOD:PUBLISH
X-PUBLISHED-TTL:P3D
REFRESH-INTERVAL:P3D
CALSCALE:GREGORIAN
BEGIN:VEVENT
DTSTART:20140924T124500Z
DTEND:20140924T140000Z
X-MICROSOFT-CDO-ALLDAYEVENT:FALSE
SUMMARY:2014 September Connect Over Breakfast
DESCRIPTION:The Bixby Metro Chamber would like to assist you in developing professional and personal relationships with other businesses and associates in the Bixby community. Networkers will meet for breakfast in a small group with other Chamber Partners and community leaders to develop personal relationships and promote their businesses within the group.
X-ALT-DESC;FMTTYPE=text/html:The Bixby Metro Chamber would like to assist you in developing professional and personal relationships with other businesses and associates in the Bixby community. Networkers&nbsp\;will meet for breakfast in a small group with other Chamber Partners and community leaders to develop personal relationships&nbsp\;and promote their businesses within the group.&nbsp\;
LOCATION:Holiday Inn & Suites 10020 East 81st Street Tulsa\, OK 74133
UID:e.1611.1424
SEQUENCE:3
DTSTAMP:20260420T160218Z
URL:https://portal.bixbychamber.com/events/details/2014-september-connect-over-breakfast-09-24-2014-1424
END:VEVENT

END:VCALENDAR
