BEGIN:VCALENDAR
VERSION:2.0
PRODID:-//ChamberMaster//Event Calendar 2.0//EN
METHOD:PUBLISH
X-PUBLISHED-TTL:P3D
REFRESH-INTERVAL:P3D
CALSCALE:GREGORIAN
BEGIN:VEVENT
DTSTART:20140911T223000Z
DTEND:20140912T000000Z
X-MICROSOFT-CDO-ALLDAYEVENT:FALSE
SUMMARY:2014 September After Hours
DESCRIPTION:A very relaxed and casual networking event that gives the highlighted business a great opportunity to promote your products and services. Food and beverages will be provided.
X-ALT-DESC;FMTTYPE=text/html:A very relaxed and casual networking event that gives the highlighted&nbsp\;business a great opportunity to promote your products and services. Food and beverages will be&nbsp\;provided.&nbsp\;
LOCATION:BTC Broadband 11134 South Memorial Bixby\, OK 74008
UID:e.1611.1297
SEQUENCE:3
DTSTAMP:20260420T160213Z
URL:https://portal.bixbychamber.com/events/details/2014-september-after-hours-09-11-2014-1297
END:VEVENT

END:VCALENDAR
