BEGIN:VCALENDAR
VERSION:2.0
PRODID:-//ChamberMaster//Event Calendar 2.0//EN
METHOD:PUBLISH
X-PUBLISHED-TTL:P3D
REFRESH-INTERVAL:P3D
CALSCALE:GREGORIAN
BEGIN:VEVENT
DTSTART:20141021T233000Z
DTEND:20141022T010000Z
X-MICROSOFT-CDO-ALLDAYEVENT:FALSE
SUMMARY:2014 Securing America Town Hall with Congressman Bridenstine
DESCRIPTION:Congressman Bridenstine would like to invite you to the "Securing America Town Hall."\n\n \n\n"Our country is facing multiple national security challenges at home and abroad. How we respond to ISIS\, Ebola\, Russian aggression\, and the crisis on our southern border is critical to both our national security and our sovereignty.
X-ALT-DESC;FMTTYPE=text/html:Congressman Bridenstine would like to invite you to the &ldquo\;Securing America Town Hall.&rdquo\;<br />\n&nbsp\;<br />\n<span style="font-family:calibri\,sans-serif\;"><span style="font-size:11.0pt\;">&ldquo\;</span></span><strong><span style="color:#505050\;"><span style="font-family:helvetica\,sans-serif\;"><span style="font-size:10.5pt\;">Our country is facing multiple national security challenges at home and abroad. How we respond to ISIS\, Ebola\, Russian aggression\, and the crisis on our southern border is critical to both our national security and our sovereignty.</span></span></span></strong>
LOCATION:ORU Mabee Center 7777 South Lewis Tulsa\, OK 74171
UID:e.1611.1456
SEQUENCE:3
DTSTAMP:20260420T162700Z
URL:https://portal.bixbychamber.com/events/details/2014-securing-america-town-hall-with-congressman-bridenstine-10-21-2014-1456
END:VEVENT

END:VCALENDAR
