BEGIN:VCALENDAR
VERSION:2.0
PRODID:-//ChamberMaster//Event Calendar 2.0//EN
METHOD:PUBLISH
X-PUBLISHED-TTL:P3D
REFRESH-INTERVAL:P3D
CALSCALE:GREGORIAN
BEGIN:VEVENT
DTSTART:20141211T223000Z
DTEND:20141211T230000Z
X-MICROSOFT-CDO-ALLDAYEVENT:FALSE
SUMMARY:2014 Ribbon Cutting- Dr. Andrea 's Chiropractic & Spinal Decompression
DESCRIPTION:Please join us as we welcome Dr. Andrea's Chiropractic & Spinal Decompression.
X-ALT-DESC;FMTTYPE=text/html:Please join us as we welcome Dr. Andrea&#39\;s Chiropractic &amp\; Spinal Decompression.
LOCATION:Dr. Andrea 's Chiropractic & Spinal Decompression Andrea Javersak 8222 East 103rd Street Suite 123 Tulsa\, OK 74133
UID:e.1611.1466
SEQUENCE:3
DTSTAMP:20260420T121600Z
URL:https://portal.bixbychamber.com/events/details/2014-ribbon-cutting-dr-andrea-s-chiropractic-spinal-decompression-12-11-2014-1466
END:VEVENT

END:VCALENDAR
