BEGIN:VCALENDAR
VERSION:2.0
PRODID:-//ChamberMaster//Event Calendar 2.0//EN
METHOD:PUBLISH
X-PUBLISHED-TTL:P3D
REFRESH-INTERVAL:P3D
CALSCALE:GREGORIAN
BEGIN:VEVENT
DTSTART:20140717T213000Z
DTEND:20140717T220000Z
X-MICROSOFT-CDO-ALLDAYEVENT:FALSE
SUMMARY:2014 Ribbon Cutting- Bixby Bicycles & Accessories
DESCRIPTION:Please join us for a Ribbon Cutting welcoming Bixby Bicycles & Accessories.
X-ALT-DESC;FMTTYPE=text/html:Please join us for a Ribbon Cutting welcoming Bixby Bicycles &amp\; Accessories.
LOCATION:Bixby Bicycles & Accessories Buster Brown 8315 East 111th Street South Suite C Bixby \, OK 74008
UID:e.1611.1391
SEQUENCE:3
DTSTAMP:20260420T184415Z
URL:https://portal.bixbychamber.com/events/details/2014-ribbon-cutting-bixby-bicycles-accessories-07-17-2014-1391
END:VEVENT

END:VCALENDAR
