BEGIN:VCALENDAR
VERSION:2.0
PRODID:-//ChamberMaster//Event Calendar 2.0//EN
METHOD:PUBLISH
X-PUBLISHED-TTL:P3D
REFRESH-INTERVAL:P3D
CALSCALE:GREGORIAN
BEGIN:VEVENT
DTSTART:20141204T223000Z
DTEND:20141204T230000Z
X-MICROSOFT-CDO-ALLDAYEVENT:FALSE
SUMMARY:2014 Ribbon Cutting- Bixby Auto Plaza
DESCRIPTION:Please join us for a Ribbon Cutting as we welcome Bixby Auto Plaza
X-ALT-DESC;FMTTYPE=text/html:Please join us for a Ribbon Cutting as we welcome Bixby Auto Plaza
LOCATION:Bixby Auto Plaza 15309 South Memorial Drive Bixby\, OK 74008
UID:e.1611.1461
SEQUENCE:3
DTSTAMP:20260420T134400Z
URL:https://portal.bixbychamber.com/events/details/2014-ribbon-cutting-bixby-auto-plaza-12-04-2014-1461
END:VEVENT

END:VCALENDAR
