BEGIN:VCALENDAR
VERSION:2.0
PRODID:-//ChamberMaster//Event Calendar 2.0//EN
METHOD:PUBLISH
X-PUBLISHED-TTL:P3D
REFRESH-INTERVAL:P3D
CALSCALE:GREGORIAN
BEGIN:VEVENT
DTSTART:20140710T200000Z
DTEND:20140710T203000Z
X-MICROSOFT-CDO-ALLDAYEVENT:FALSE
SUMMARY:2014 Ribbon Cutting- Apollo's Karate
DESCRIPTION:Please join us for a Ribbon CUtting welcoming Apollo's Karate.
X-ALT-DESC;FMTTYPE=text/html:Please join us for a Ribbon CUtting welcoming Apollo&#39\;s Karate.
LOCATION:Apollo's Karate 13406 South Memorial Drive Bixby\, OK 74008
UID:e.1611.1400
SEQUENCE:3
DTSTAMP:20260420T200709Z
URL:https://portal.bixbychamber.com/events/details/2014-ribbon-cutting-apollo-s-karate-07-10-2014-1400
END:VEVENT

END:VCALENDAR
