BEGIN:VCALENDAR
VERSION:2.0
PRODID:-//ChamberMaster//Event Calendar 2.0//EN
METHOD:PUBLISH
X-PUBLISHED-TTL:P3D
REFRESH-INTERVAL:P3D
CALSCALE:GREGORIAN
BEGIN:VEVENT
DTSTART:20140410T213000Z
DTEND:20140410T233000Z
X-MICROSOFT-CDO-ALLDAYEVENT:FALSE
SUMMARY:2014 Ribbon Cutting and Open House- Palm Beach Vapor
DESCRIPTION:Please join us for a Ribbon Cutting and Open House as we welcome Palm Beach Vapors.\n\nBeach Party theme\, Margarita Machine\, Cookies\, Tropical Fruit\, Music\, Drawing for a Itast MVP ($80 value) and education on this new concept and other fun activities.  Come join the fun!
X-ALT-DESC;FMTTYPE=text/html:Please join us for a Ribbon Cutting and Open House as we welcome Palm Beach Vapors.<br />\n<span style="font-family:arial\,sans-serif\;"><span style="font-size:11.0pt\;">Beach Party theme\, Margarita Machine\, Cookies\, Tropical Fruit\, Music\, Drawing for a Itast MVP ($80 value) and education on this new concept and other fun activities.&nbsp\; Come join the fun!</span></span>
LOCATION:11845 South Memorial Drive Bixby\, OK 74008
UID:e.1611.1341
SEQUENCE:3
DTSTAMP:20260420T225457Z
URL:https://portal.bixbychamber.com/events/details/2014-ribbon-cutting-and-open-house-palm-beach-vapor-04-10-2014-1341
END:VEVENT

END:VCALENDAR
