BEGIN:VCALENDAR
VERSION:2.0
PRODID:-//ChamberMaster//Event Calendar 2.0//EN
METHOD:PUBLISH
X-PUBLISHED-TTL:P3D
REFRESH-INTERVAL:P3D
CALSCALE:GREGORIAN
BEGIN:VEVENT
DTSTART:20140313T213000Z
DTEND:20140313T223000Z
X-MICROSOFT-CDO-ALLDAYEVENT:FALSE
SUMMARY:2014 Ribbon Cutting and Open House- Kubota Construction Equipment of Tulsa
DESCRIPTION:Come join the fun and check out Kubota Construction and Equipment. They will be serving appetizers and drinks.
X-ALT-DESC;FMTTYPE=text/html:Come join the fun and check out Kubota Construction and Equipment. They will be serving appetizers and drinks.<br />\n<br />\n<br />\n&nbsp\;
LOCATION:10101 South Memorial Drive Tulsa\, OK 74133
UID:e.1611.1336
SEQUENCE:3
DTSTAMP:20260421T000317Z
URL:https://portal.bixbychamber.com/events/details/2014-ribbon-cutting-and-open-house-kubota-construction-equipment-of-tulsa-03-13-2014-1336
END:VEVENT

END:VCALENDAR
