BEGIN:VCALENDAR
VERSION:2.0
PRODID:-//ChamberMaster//Event Calendar 2.0//EN
METHOD:PUBLISH
X-PUBLISHED-TTL:P3D
REFRESH-INTERVAL:P3D
CALSCALE:GREGORIAN
BEGIN:VEVENT
DTSTART:20141030T213000Z
DTEND:20141030T220000Z
X-MICROSOFT-CDO-ALLDAYEVENT:FALSE
SUMMARY:2014 Ribbon Cutting and Open House- Home Creations
DESCRIPTION:Please join us for a Ribbon Cutting and Open House as we welcome Home Creations- Lantern Hills.
X-ALT-DESC;FMTTYPE=text/html:Please join us for a Ribbon Cutting and Open House as we welcome Home Creations- Lantern Hills.
LOCATION:Home Creations 6461 East 148th Street South Bixby\, OK 74008
UID:e.1611.1393
SEQUENCE:3
DTSTAMP:20260420T145305Z
URL:https://portal.bixbychamber.com/events/details/2014-ribbon-cutting-and-open-house-home-creations-10-30-2014-1393
END:VEVENT

END:VCALENDAR
