BEGIN:VCALENDAR
VERSION:2.0
PRODID:-//ChamberMaster//Event Calendar 2.0//EN
METHOD:PUBLISH
X-PUBLISHED-TTL:P3D
REFRESH-INTERVAL:P3D
CALSCALE:GREGORIAN
BEGIN:VEVENT
DTSTART:20141113T223000Z
DTEND:20141113T230000Z
X-MICROSOFT-CDO-ALLDAYEVENT:FALSE
SUMMARY:2014 Ribbon Cutting and Open House- Granite Transformations
DESCRIPTION:Please join us for a ribbon cutting and open house welcoming Granite Transformations to the chamber.
X-ALT-DESC;FMTTYPE=text/html:Please join us for a ribbon cutting and open house welcoming Granite Transformations to the chamber.
LOCATION:Granite Transformations 5151 South Mingo Road Suite C Tulsa\, OK 74146
UID:e.1611.1395
SEQUENCE:3
DTSTAMP:20260420T134320Z
URL:https://portal.bixbychamber.com/events/details/2014-ribbon-cutting-and-open-house-granite-transformations-11-13-2014-1395
END:VEVENT

END:VCALENDAR
